BEGIN:VCALENDAR
VERSION:2.0
PRODID:-//Arkansas Catholic Charismatic - ECPv6.15.20//NONSGML v1.0//EN
CALSCALE:GREGORIAN
METHOD:PUBLISH
X-ORIGINAL-URL:https://arkcc.org
X-WR-CALDESC:Events for Arkansas Catholic Charismatic
REFRESH-INTERVAL;VALUE=DURATION:PT1H
X-Robots-Tag:noindex
X-PUBLISHED-TTL:PT1H
BEGIN:VTIMEZONE
TZID:America/Chicago
BEGIN:DAYLIGHT
TZOFFSETFROM:-0600
TZOFFSETTO:-0500
TZNAME:CDT
DTSTART:20220313T080000
END:DAYLIGHT
BEGIN:STANDARD
TZOFFSETFROM:-0500
TZOFFSETTO:-0600
TZNAME:CST
DTSTART:20221106T070000
END:STANDARD
BEGIN:DAYLIGHT
TZOFFSETFROM:-0600
TZOFFSETTO:-0500
TZNAME:CDT
DTSTART:20230312T080000
END:DAYLIGHT
BEGIN:STANDARD
TZOFFSETFROM:-0500
TZOFFSETTO:-0600
TZNAME:CST
DTSTART:20231105T070000
END:STANDARD
BEGIN:DAYLIGHT
TZOFFSETFROM:-0600
TZOFFSETTO:-0500
TZNAME:CDT
DTSTART:20240310T080000
END:DAYLIGHT
BEGIN:STANDARD
TZOFFSETFROM:-0500
TZOFFSETTO:-0600
TZNAME:CST
DTSTART:20241103T070000
END:STANDARD
BEGIN:DAYLIGHT
TZOFFSETFROM:-0600
TZOFFSETTO:-0500
TZNAME:CDT
DTSTART:20250309T080000
END:DAYLIGHT
BEGIN:STANDARD
TZOFFSETFROM:-0500
TZOFFSETTO:-0600
TZNAME:CST
DTSTART:20251102T070000
END:STANDARD
BEGIN:DAYLIGHT
TZOFFSETFROM:-0600
TZOFFSETTO:-0500
TZNAME:CDT
DTSTART:20260308T080000
END:DAYLIGHT
BEGIN:STANDARD
TZOFFSETFROM:-0500
TZOFFSETTO:-0600
TZNAME:CST
DTSTART:20261101T070000
END:STANDARD
END:VTIMEZONE
BEGIN:VEVENT
DTSTART;VALUE=DATE:20251103
DTEND;VALUE=DATE:20251106
DTSTAMP:20260424T020627
CREATED:20250305T233647Z
LAST-MODIFIED:20250418T161137Z
UID:2881-1762128000-1762387199@arkcc.org
SUMMARY:Unbound Priest and Deacon Retreat for DOLR
DESCRIPTION:Join us for this priest and deacon retreat to learn about Unbound\, receive ministry\, and connect with other clergy who are interested in using Unbound in the DOLR. \n+ Learn a simple\, personal way to pray with your parishioners to be free of their burdens\n+ Receive personal ministry\n+ Connect with other clergy who use or want to use Unbound in pastoral care \nMission of Unbound Training: To make our parishes more fully a place where people find healing\, clergy need to be equipped to guide people into the transformation that Christ is offering them. One such powerful tool is the UNBOUND model of deliverance. \n  \nLocation: Fletcher Hall\, Diocese of Little Rock
URL:https://arkcc.org/event/unbound-priest-and-deacon-retreat/
LOCATION:Fletcher Hall\, Diocese of Little Rock\, 2500 N. Tyler St.\, Little Rock\, AR\, 72207
CATEGORIES:Priest Retreat
ATTACH;FMTTYPE=image/png:https://arkcc.org/wp-content/uploads/2025/03/unbound-1.png
END:VEVENT
BEGIN:VEVENT
DTSTART;VALUE=DATE:20251101
DTEND;VALUE=DATE:20251102
DTSTAMP:20260424T020627
CREATED:20250307T192618Z
LAST-MODIFIED:20250307T193716Z
UID:2891-1761955200-1762041599@arkcc.org
SUMMARY:Unbound ONE-DAY Training for DOLR LAITY
DESCRIPTION:Come to St. Joseph’s Spiritan Center in Conway\, Arkansas for a special ONE DAY ONLY training seminar covering the Unbound Deliverance Training Model! This ONE DAY ONLY event will equip you with strategies and techniques for more effective spiritual warfare\, specifically focused on deliverance ministry. Holy Fire Ministries is proud to partner with Unbound to better equip Catholic Christians in Arkansas on how pray alone\, in groups\, and alongside clergy in aiding people suffering from spiritual afflictions of all kinds. Register today and prepare yourself for a retreat that will leave you inspired and equipped. \n  \nAbout Unbound Training Ministry: \nAs children of a loving God\, we were created to live in relationship with Him. Sin broke this relationship and separated us from God. Sin also opens the door for lies and bondage to enter our life\, causing problems like fear\, anxiety\, hopelessness and shame. \nThe Good News is that Jesus brought salvation and liberation by dying for our sins and setting us free from this bondage. But even after accepting this gift of salvation\, we don’t always fully experience freedom\, we continue to feel anxious\, afraid\, guilty\, or hopeless. \nUnbound Ministry® helps us respond to the good news of the gospel and apply truth to our lives using The Five Keys®: 1) Repentance and Faith 2) Forgiveness 3) Renunciation 4) Authority and 5) The Father’s Blessing. \n  \n*This ONE-DAY Training Retreat is FREE OF CHARGE to Laity in the Diocese of Little Rock. Please register so we know how many to prepare materials for.*
URL:https://arkcc.org/event/unbound-one-day-training-for-dolr-laity/
LOCATION:St. Joseph Catholic Church\, Conway AR     Spiritan Hall\, 1115 College Avenue\, Conway\, AR\, 72034\, United States
ATTACH;FMTTYPE=image/png:https://arkcc.org/wp-content/uploads/2025/03/unbound-training-conway-1.png
END:VEVENT
BEGIN:VEVENT
DTSTART;VALUE=DATE:20250725
DTEND;VALUE=DATE:20250728
DTSTAMP:20260424T020627
CREATED:20250123T012219Z
LAST-MODIFIED:20250307T184536Z
UID:2861-1753401600-1753660799@arkcc.org
SUMMARY:Virtual Ticket for 2025 Charismatic Conference
DESCRIPTION:This year we are making available a virtual edition of the 2025 Charismatic Conference. For $60\, a private YouTube link will be emailed to you following the end of the conference. This link will take you to a YouTube playlist with videos of the speaker presentations\, the masses\, and some portions of the praise and worship times. We hope this virtual edition of the 2025 Charismatic Conference is a blessing to you and your small groups. \nIMPORTANT: When purchasing a ticket\, remember to include your email. The email you provide will be the email to which we send the YouTube link.
URL:https://arkcc.org/event/virtual-ticket-for-2025-charismatic-conference/
ATTACH;FMTTYPE=image/jpeg:https://arkcc.org/wp-content/uploads/2025/01/virtual-ticket-6.jpeg
END:VEVENT
BEGIN:VEVENT
DTSTART;TZID=America/Chicago:20240916T150000
DTEND;TZID=America/Chicago:20240918T120000
DTSTAMP:20260424T020627
CREATED:20230604T162648Z
LAST-MODIFIED:20240807T220630Z
UID:2028-1726498800-1726660800@arkcc.org
SUMMARY:2024 PRIEST RETREAT
DESCRIPTION:Priests of the Diocese of Little Rock \nFr. Norbert and Holy Fire Ministries invite you to a retreat! \nwith \nFr. Michael Voithofer \nMark your calendars for a Holy Spirit Encounter at Subiaco ! \n  \nWe are also blessed to have Fr. Michael Voithofer as presenter for this year’s retreat.  Join us as we open ourselves more fully to the power of the Holy Spirit that Jesus promised to send upon His Church.  As Founder and Spiritual Director of Ablaze House of Prayer\, and the Omaha Encounter School Campus\, Fr. Michael helps others explore and experience the lengths\, the depths and the heights of their heavenly inheritance. \nWe are being formed\, equipped\, empowered\, and activated to live out the supernatural life Jesus came to give us. We are learning to access and live from the supernatural wealth of our heavenly inheritance. \nWe are called to be priests who work with the profound gifts that come from the Holy Spirit.  We hope you can come and encounter the Holy Spirit through teaching and prayer.  The cost of the retreat will be covered by the Holy Fire Ministries/ACCR.  Dates have been sent in an email. \nPlease arrive between 1-3:30pm on Monday\, September 16th. The retreat will end by 12pm on Wednesday\, September 18th.  For more information\, call Linda at 501 960-8201 or Marion at 479 967-4296. Thank you! \n  \nPrayerfully yours\, \nFr. Norbert Rappold \nCome Holy Spirit! \nA message from Fr. Michael \n  \nAre you hungry for a move of God in your life? Do you want to discover the more God has for you? Jesus preached and demonstrated the Kingdom of God with many mighty signs and wonders! This is your calling!  \nJesus didn’t die on the cross to just get you to Heaven\, but He died on the cross to put Heaven inside of you! Your God-given assignment is to bring Heaven to Earth! We pray this in the Our Father: ‘On Earth as it is in Heaven.’ These 3-Days of Holy Spirit Encounter are designed to help you step more fully into your Kingdom Destiny! Come alive in the name of Jesus and become fully activated in your identity! Know who you and whose you are according to God’s Word! There are so many today who are living like orphans. Our dear Heavenly Father wants to set us free from the bondage of fear\, loneliness\, depression\, discouragement\, sickness\, disease\, and infirmities.\nIt’s time to be set free and empowered by Holy Spirit to live life to the full. As you are freed\, you can free others! Let’s begin the adventure of exploring your supernatural inheritance! You’re made for more! In scripture\, Christ said that we would “do the works that he did and even greater works than these.” God wants you whole and filled with His Holy Spirit.  \nExperience: \n– A greater activation of the gifts of the Holy Spirit! \n– Living empowered to pray with people for healing and deliverance! \n– Empowered to sharing prophetic words of knowledge! \n– Lead people in healing prayer! \n– Live more radically for God who heals and transforms lives! \n I look forward to seeing you at Subiaco! \n  \nWe are being formed\, equipped\, empowered\, and activated to live out the supernatural life Jesus came to give us. We are learning to access and live from the supernatural wealth of our heavenly inheritance.
URL:https://arkcc.org/event/2024-priest-retreat/
LOCATION:Coury House\, Subiaco Abbey\, 405 N. Subiaco Avenue\, Subiaco\, AR\, 72865
CATEGORIES:Priest Retreat
ATTACH;FMTTYPE=image/jpeg:https://arkcc.org/wp-content/uploads/2022/03/Our-Lady.jpg
END:VEVENT
BEGIN:VEVENT
DTSTART;TZID=America/Chicago:20240817T090000
DTEND;TZID=America/Chicago:20240817T170000
DTSTAMP:20260424T020627
CREATED:20240531T032356Z
LAST-MODIFIED:20240714T194127Z
UID:2513-1723885200-1723914000@arkcc.org
SUMMARY:The Flame and Fruit of Pentecost
DESCRIPTION:A One Day Retreat to Understand God’s Love\, Healing and Empowerment\nBringing the Kingdom Of God into Our Midst \nfeaturing: Fr. Norbert Rappold and fellow Catholics who have experienced the power of the Holy Spirit!\nLocated at Paul Hall aka “The Old Church” in Rogers\, AR\, this ONE DAY retreat is not to be missed! Come learn more about the power and fruits of the Holy Spirit and learn more about how to grow deeper in your walk with Christ. There will be times of prayer\, reflection\, healing\, and much more! In addition\, there will be times of one-on-one prayer sessions for those who need it. The overall event will include a few lectures and testimonies\, a healing service and prayer for impartation with Fr. Norbert Rappold.  Join SVdP for Sunday Vigil Mass. Lunch is included in the price of your ticket. For just $20\, come enjoy a time of refreshment and empowerment with your fellow believers! \n\nParking specifics: There is parking available east of St. Vincent Paul School playground. 13th street is closed due to construction. \nFor more information please contact: Marion at 479-692-1937
URL:https://arkcc.org/event/the-flame-and-fruit-of-pentecost/
LOCATION:Paul Hall\, 1302 W. Poplar St.\, Rogers\, AR\, 72712\, United States
ATTACH;FMTTYPE=image/jpeg:https://arkcc.org/wp-content/uploads/2024/03/pentecost-4.jpg
ORGANIZER;CN="Holy Fire Ministries":MAILTO:lwilliams.12341@gmail.com
END:VEVENT
BEGIN:VEVENT
DTSTART;TZID=America/Chicago:20240427T090000
DTEND;TZID=America/Chicago:20240427T170000
DTSTAMP:20260424T020627
CREATED:20240308T021442Z
LAST-MODIFIED:20240308T152922Z
UID:2260-1714208400-1714237200@arkcc.org
SUMMARY:Preparing for Pentecost!
DESCRIPTION:  \nCome and experience the fullness promised by Jesus! \nCome and experience the fullness promised by Jesus. \nEach talk will help you to come to understand \nGod’s love\, healing\, and God’s empowerment \nto bring the Kingdom of God into our midst \n         from fellow Catholics who have \n  experienced it! \nThis event will include Mass\, a Healing Service as well as individual prayer times. \nLunch is included. \nThe total cost for this all-day event is only $20. \nDownload poster for additional information and to register by mail \nFor Questions: Leave a message for Marion at 479 692-1937 \nPayment can be made through Paypal and with your card. Follow all prompts.
URL:https://arkcc.org/event/preparing-for-pentecost/
LOCATION:St. Joseph Catholic Church\, Conway AR     Spiritan Hall\, 1115 College Avenue\, Conway\, AR\, 72034\, United States
ATTACH;FMTTYPE=image/jpeg:https://arkcc.org/wp-content/uploads/2024/03/pentecost-5.jpg
END:VEVENT
BEGIN:VEVENT
DTSTART;TZID=America/Chicago:20230723T080000
DTEND;TZID=America/Chicago:20230905T170000
DTSTAMP:20260424T020627
CREATED:20230502T011912Z
LAST-MODIFIED:20230502T023507Z
UID:1933-1690099200-1693933200@arkcc.org
SUMMARY:2023 Conference Virtual Ticket
DESCRIPTION:Order your copy of the 2023 Conference’s Virtual Ticket! This will include a YouTube playlist of selected sessions and masses and sent your designated email. The cost is only $50!
URL:https://arkcc.org/event/2023-conference-virtual-ticket/
ATTACH;FMTTYPE=image/png:https://arkcc.org/wp-content/uploads/2022/05/VIRTUALTICKETIMAGEFacebookPost.png
END:VEVENT
END:VCALENDAR