BEGIN:VCALENDAR
VERSION:2.0
PRODID:-//Arkansas Catholic Charismatic - ECPv6.15.20//NONSGML v1.0//EN
CALSCALE:GREGORIAN
METHOD:PUBLISH
X-WR-CALNAME:Arkansas Catholic Charismatic
X-ORIGINAL-URL:https://arkcc.org
X-WR-CALDESC:Events for Arkansas Catholic Charismatic
REFRESH-INTERVAL;VALUE=DURATION:PT1H
X-Robots-Tag:noindex
X-PUBLISHED-TTL:PT1H
BEGIN:VTIMEZONE
TZID:America/Chicago
BEGIN:DAYLIGHT
TZOFFSETFROM:-0600
TZOFFSETTO:-0500
TZNAME:CDT
DTSTART:20250309T080000
END:DAYLIGHT
BEGIN:STANDARD
TZOFFSETFROM:-0500
TZOFFSETTO:-0600
TZNAME:CST
DTSTART:20251102T070000
END:STANDARD
BEGIN:DAYLIGHT
TZOFFSETFROM:-0600
TZOFFSETTO:-0500
TZNAME:CDT
DTSTART:20260308T080000
END:DAYLIGHT
BEGIN:STANDARD
TZOFFSETFROM:-0500
TZOFFSETTO:-0600
TZNAME:CST
DTSTART:20261101T070000
END:STANDARD
BEGIN:DAYLIGHT
TZOFFSETFROM:-0600
TZOFFSETTO:-0500
TZNAME:CDT
DTSTART:20270314T080000
END:DAYLIGHT
BEGIN:STANDARD
TZOFFSETFROM:-0500
TZOFFSETTO:-0600
TZNAME:CST
DTSTART:20271107T070000
END:STANDARD
END:VTIMEZONE
BEGIN:VEVENT
DTSTART;TZID=America/Chicago:20260425T083000
DTEND;TZID=America/Chicago:20260425T170000
DTSTAMP:20260423T151432
CREATED:20260220T175219Z
LAST-MODIFIED:20260220T175248Z
UID:3303-1777105800-1777136400@arkcc.org
SUMMARY:Encounter with God's promise of Love
DESCRIPTION:“Encounter with God’s Promises of Love”\nHoly Fire Ministries invites you to attend a day retreat April 25\, 2026\, at St. Vincent de Paul in Rogers\, AR. The focus will be on God’s love and promises given to us in the Bible and Church teachings. Come experience informative talks\, personal testimonies\, adoration\, and spiritual exercises. The retreat concludes with a healing service and prayer encounter with the Holy Spirit with Fr. Norbert Rappold.  Cost is $25 and includes lunch.  Local Contact:    Call Patti for questions @ 479-619-5284  [Leave a message] \nOn-site registration opens at 8:45am.  We will be in St. Vincent de Paul’s John Paul II room\, in the ministry building\, at 1416 West Poplar – enter from the Church’s plaza.  Retreat is from 9-4:30. There is an optional team mass at 7:45 on the campus.
URL:https://arkcc.org/event/encounter-with-gods-promise-of-love/
ATTACH;FMTTYPE=image/jpeg:https://arkcc.org/wp-content/uploads/2019/07/ARCC2017WEBresolution.jpg
ORGANIZER;CN="Holy Fire Ministries":MAILTO:lwilliams.12341@gmail.com
END:VEVENT
BEGIN:VEVENT
DTSTART;TZID=America/Chicago:20260724T160000
DTEND;TZID=America/Chicago:20260726T133000
DTSTAMP:20260423T151432
CREATED:20251016T175924Z
LAST-MODIFIED:20260402T223528Z
UID:3233-1784908800-1785072600@arkcc.org
SUMMARY:2026 Conference Registration
DESCRIPTION:2026 Catholic Charismatic Conference\nThis year’s Holy Fire Ministries Conference is called: The Glory of the Lord Shall Appear\, centered around Chapter 40 of Isaiah. It will be held in Northwest Arkansas at the Holiday Inn in Springdale\, Arkansas. Joining us this year will be Vickie Smith from Upper Room Ministries and Pete Burak from Encounter Ministries\, alongside our wonderful Fr. Norbert Rappold. Praise and worship will be led by the NST Band. Bishop Taylor will be joining us for one of the masses during the weekend too! \nSaturday lunch is included in your conference registration! \n  \nCall Holiday Day Inn at 1-877-666-3243 to reserve your rooms now! Two Breakfast is included in your room reservation. \n  \nFollow the form below to register for the conference using our new payment platform\, Zeffy. It is completely free and it used by non-profits and religious organizations across the United States. You have the option of not donating to Zeffy.
URL:https://arkcc.org/event/the-glory-of-the-lord-shall-appear/
LOCATION:Holiday Inn\, Springdale AR\, AR
ATTACH;FMTTYPE=application/pdf:https://arkcc.org/wp-content/uploads/2025/10/Poster-File-2-1.pdf
END:VEVENT
END:VCALENDAR